BEGIN:VCALENDAR
VERSION:2.0
PRODID:spatie/icalendar-generator
NAME:London Marathon 2026
X-WR-CALNAME:London Marathon 2026
BEGIN:VTIMEZONE
TZID:Europe/London
BEGIN:STANDARD
DTSTART:20251026T020000
TZOFFSETFROM:+0100
TZOFFSETTO:+0000
END:STANDARD
BEGIN:DAYLIGHT
DTSTART:20260329T000000
TZOFFSETFROM:+0000
TZOFFSETTO:+0100
END:DAYLIGHT
BEGIN:STANDARD
DTSTART:20261025T020000
TZOFFSETFROM:+0100
TZOFFSETTO:+0000
END:STANDARD
END:VTIMEZONE
BEGIN:VTIMEZONE
TZID:UTC
BEGIN:STANDARD
DTSTART:20250729T230000
TZOFFSETFROM:+0000
TZOFFSETTO:+0000
END:STANDARD
END:VTIMEZONE
BEGIN:VEVENT
UID:69e88d4630cfe
DTSTAMP:20260425T230000Z
SUMMARY:London Marathon 2026
DESCRIPTION:Every year\, more than 40\,000 people run the marathon through 
 the streets of London for personal achievement and to raise money for char
 ity.\nIt is open to all abilities\, from beginners to professional athlete
 s and is one of the most desirable running events in the world - would you
  run to support LOROS?
LOCATION:Greenwich Park\, London
X-MICROSOFT-CDO-ALLDAYEVENT:TRUE
DTSTART;TZID=Europe/London;VALUE=DATE:20260426
DTEND;TZID=Europe/London;VALUE=DATE:20260426
END:VEVENT
END:VCALENDAR