BEGIN:VCALENDAR
VERSION:2.0
PRODID:spatie/icalendar-generator
NAME:LOROS Annual Lunch 2026
X-WR-CALNAME:LOROS Annual Lunch 2026
BEGIN:VTIMEZONE
TZID:Europe/London
BEGIN:STANDARD
DTSTART:20251026T020000
TZOFFSETFROM:+0100
TZOFFSETTO:+0000
END:STANDARD
BEGIN:DAYLIGHT
DTSTART:20260329T000000
TZOFFSETFROM:+0000
TZOFFSETTO:+0100
END:DAYLIGHT
BEGIN:STANDARD
DTSTART:20261025T020000
TZOFFSETFROM:+0100
TZOFFSETTO:+0000
END:STANDARD
END:VTIMEZONE
BEGIN:VTIMEZONE
TZID:UTC
BEGIN:STANDARD
DTSTART:20250823T093000
TZOFFSETFROM:+0000
TZOFFSETTO:+0000
END:STANDARD
END:VTIMEZONE
BEGIN:VEVENT
UID:69e9fb43d0f4d
DTSTAMP:20260520T093000Z
SUMMARY:LOROS Annual Lunch 2026
DESCRIPTION:A beloved event for supporters of LOROS Hospice\, we hope that 
 you will join us for a spectacular afternoon of food\, fizz and entertainm
 ent.
LOCATION:Winstanley House\, Hinckley Road\, Leicester\, LE3 1HX
DTSTART;TZID=Europe/London:20260520T103000
DTEND;TZID=Europe/London:20260521T000000
END:VEVENT
END:VCALENDAR