BEGIN:VCALENDAR
VERSION:2.0
PRODID:spatie/icalendar-generator
NAME:LOROS' Big Day Out
X-WR-CALNAME:LOROS' Big Day Out
BEGIN:VTIMEZONE
TZID:Europe/London
BEGIN:DAYLIGHT
DTSTART:20260329T000000
TZOFFSETFROM:+0000
TZOFFSETTO:+0100
END:DAYLIGHT
BEGIN:STANDARD
DTSTART:20261025T020000
TZOFFSETFROM:+0100
TZOFFSETTO:+0000
END:STANDARD
END:VTIMEZONE
BEGIN:VTIMEZONE
TZID:UTC
BEGIN:STANDARD
DTSTART:20251111T090000
TZOFFSETFROM:+0000
TZOFFSETTO:+0000
END:STANDARD
END:VTIMEZONE
BEGIN:VEVENT
UID:69ea9f6b7f639
DTSTAMP:20260808T090000Z
SUMMARY:LOROS' Big Day Out
DESCRIPTION:The Big Day Out is your chance to find out what LOROS does and 
 see how our amazing community makes a real difference every day.
LOCATION:LOROS Hospice\, LE3 9QE
DTSTART;TZID=Europe/London:20260808T100000
DTEND;TZID=Europe/London:20260808T160000
END:VEVENT
END:VCALENDAR