BEGIN:VCALENDAR
VERSION:2.0
PRODID:spatie/icalendar-generator
NAME:Plant sale & swap
X-WR-CALNAME:Plant sale & swap
BEGIN:VTIMEZONE
TZID:Europe/London
BEGIN:STANDARD
DTSTART:20251026T020000
TZOFFSETFROM:+0100
TZOFFSETTO:+0000
END:STANDARD
BEGIN:DAYLIGHT
DTSTART:20260329T000000
TZOFFSETFROM:+0000
TZOFFSETTO:+0100
END:DAYLIGHT
BEGIN:STANDARD
DTSTART:20261025T020000
TZOFFSETFROM:+0100
TZOFFSETTO:+0000
END:STANDARD
END:VTIMEZONE
BEGIN:VTIMEZONE
TZID:UTC
BEGIN:STANDARD
DTSTART:20250813T090000
TZOFFSETFROM:+0000
TZOFFSETTO:+0000
END:STANDARD
END:VTIMEZONE
BEGIN:VEVENT
UID:69e5bdb53b7ee
DTSTAMP:20260510T090000Z
SUMMARY:Plant sale & swap
DESCRIPTION:Brighten up your garden with some potted treasures.
LOCATION:10 Leicester Road\, Sapcote\, LE9 4JF
DTSTART;TZID=Europe/London:20260510T100000
DTEND;TZID=Europe/London:20260510T160000
END:VEVENT
END:VCALENDAR